BEGIN:VCALENDAR
VERSION:2.0
PRODID:-//eventon.com NONSGML v1.0//EN
CALSCALE:GREGORIAN
METHOD:PUBLISH
BEGIN:VEVENT
UID:69eaa611cad7e
DTSTAMP:20260423T230657Z
DTSTART:20240530T170000Z
DTEND:20240530T215000Z
LOCATION:
SUMMARY:Mjällby AIF-Östers IF
DESCRIPTION:Mjällby AIF-Östers IF\nhttps://xn--hrligahllevik-bfbg.se/even
 ts/mjallby-aif-osters-if-2/
URL:https://xn--hrligahllevik-bfbg.se/events/mjallby-aif-osters-if-2/
END:VEVENT
END:VCALENDAR