BEGIN:VCALENDAR
VERSION:2.0
PRODID:-//eventon.com NONSGML v1.0//EN
CALSCALE:GREGORIAN
METHOD:PUBLISH
BEGIN:VEVENT
UID:69ea8b1d762b3
DTSTAMP:20260423T211157Z
DTSTART:20240401T100000Z
DTEND:20240401T140000Z
LOCATION:
SUMMARY:Påsk-Pub
DESCRIPTION:Påsk-Pub\nhttps://xn--hrligahllevik-bfbg.se/events/pask-pub-4/
URL:https://xn--hrligahllevik-bfbg.se/events/pask-pub-4/
END:VEVENT
END:VCALENDAR