BEGIN:VCALENDAR
VERSION:2.0
PRODID:-//eventon.com NONSGML v1.0//EN
CALSCALE:GREGORIAN
METHOD:PUBLISH
BEGIN:VEVENT
UID:69ea946dc87fa
DTSTAMP:20260423T215141Z
DTSTART:20231122T130000Z
DTEND:20231122T150000Z
LOCATION:
SUMMARY:Kulturkafé
DESCRIPTION:Kulturkafé\nhttps://xn--hrligahllevik-bfbg.se/events/kulturkaf
 e-4/
URL:https://xn--hrligahllevik-bfbg.se/events/kulturkafe-4/
END:VEVENT
END:VCALENDAR