BEGIN:VCALENDAR
VERSION:2.0
PRODID:-//eventon.com NONSGML v1.0//EN
CALSCALE:GREGORIAN
METHOD:PUBLISH
BEGIN:VEVENT
UID:69eab7247a1b4
DTSTAMP:20260424T001948Z
DTSTART:20230706T073000Z
DTEND:20230706T113000Z
LOCATION:
SUMMARY:KIDS CLUB
DESCRIPTION:KIDS CLUB\nhttps://xn--hrligahllevik-bfbg.se/events/kids-club-3
 /
URL:https://xn--hrligahllevik-bfbg.se/events/kids-club-3/
END:VEVENT
END:VCALENDAR