BEGIN:VCALENDAR
VERSION:2.0
PRODID:-//eventon.com NONSGML v1.0//EN
CALSCALE:GREGORIAN
METHOD:PUBLISH
BEGIN:VEVENT
UID:69ea0b5e5ce18
DTSTAMP:20260423T120654Z
DTSTART:20230730T130000Z
DTEND:20230730T215000Z
LOCATION:
SUMMARY:Mjällby AIF-Djurgårdens IF
DESCRIPTION:Mjällby AIF-Djurgårdens IF\nhttps://xn--hrligahllevik-bfbg.se
 /events/mjallby-aif-djurgardens-if/
URL:https://xn--hrligahllevik-bfbg.se/events/mjallby-aif-djurgardens-if/
END:VEVENT
END:VCALENDAR